BEGIN:VCALENDAR
VERSION:2.0
PRODID:-//RecumbentPDX - ECPv6.15.12.2//NONSGML v1.0//EN
CALSCALE:GREGORIAN
METHOD:PUBLISH
X-WR-CALNAME:RecumbentPDX
X-ORIGINAL-URL:https://recumbentpdx.com
X-WR-CALDESC:Events for RecumbentPDX
REFRESH-INTERVAL;VALUE=DURATION:PT1H
X-Robots-Tag:noindex
X-PUBLISHED-TTL:PT1H
BEGIN:VTIMEZONE
TZID:America/Los_Angeles
BEGIN:DAYLIGHT
TZOFFSETFROM:-0800
TZOFFSETTO:-0700
TZNAME:PDT
DTSTART:20220313T100000
END:DAYLIGHT
BEGIN:STANDARD
TZOFFSETFROM:-0700
TZOFFSETTO:-0800
TZNAME:PST
DTSTART:20221106T090000
END:STANDARD
BEGIN:DAYLIGHT
TZOFFSETFROM:-0800
TZOFFSETTO:-0700
TZNAME:PDT
DTSTART:20230312T100000
END:DAYLIGHT
BEGIN:STANDARD
TZOFFSETFROM:-0700
TZOFFSETTO:-0800
TZNAME:PST
DTSTART:20231105T090000
END:STANDARD
BEGIN:DAYLIGHT
TZOFFSETFROM:-0800
TZOFFSETTO:-0700
TZNAME:PDT
DTSTART:20240310T100000
END:DAYLIGHT
BEGIN:STANDARD
TZOFFSETFROM:-0700
TZOFFSETTO:-0800
TZNAME:PST
DTSTART:20241103T090000
END:STANDARD
BEGIN:DAYLIGHT
TZOFFSETFROM:-0800
TZOFFSETTO:-0700
TZNAME:PDT
DTSTART:20250309T100000
END:DAYLIGHT
BEGIN:STANDARD
TZOFFSETFROM:-0700
TZOFFSETTO:-0800
TZNAME:PST
DTSTART:20251102T090000
END:STANDARD
BEGIN:DAYLIGHT
TZOFFSETFROM:-0800
TZOFFSETTO:-0700
TZNAME:PDT
DTSTART:20260308T100000
END:DAYLIGHT
BEGIN:STANDARD
TZOFFSETFROM:-0700
TZOFFSETTO:-0800
TZNAME:PST
DTSTART:20261101T090000
END:STANDARD
END:VTIMEZONE
BEGIN:VEVENT
DTSTART;TZID=America/Los_Angeles:20250430T170000
DTEND;TZID=America/Los_Angeles:20250430T203000
DTSTAMP:20260424T141841
CREATED:20250409T202527Z
LAST-MODIFIED:20250409T204359Z
UID:7703-1746032400-1746045000@recumbentpdx.com
SUMMARY:April 30th Wednesday Pizza Ride
DESCRIPTION:Easy Up the river west side down the east side then back to Hot Lips Pizza.  Meet 5pm at RPDX.  Ride starts at 5:30pm and ends at Hot Lips 100 yards east of the shop on Hawthorne (8:17pm sunset).  RPDX pays for pizzas (Rain Date May 7th). Distance/difficulty: 6 miles/easy. Here’s a map!
URL:https://recumbentpdx.com/event/april-30th-wednesday-pizza-ride/
LOCATION:RecumbentPDX\, 2025 SE Hawthorne\, Portland\, OR\, 97214\, United States
CATEGORIES:Wednesday Pizza Rides
ORGANIZER;CN="Mel Birge":MAILTO:info@recumbentpdx.com
END:VEVENT
BEGIN:VEVENT
DTSTART;TZID=America/Los_Angeles:20230614T170000
DTEND;TZID=America/Los_Angeles:20230614T200000
DTSTAMP:20260424T141841
CREATED:20230324T231536Z
LAST-MODIFIED:20230326T011815Z
UID:6344-1686762000-1686772800@recumbentpdx.com
SUMMARY:Riverfront Ride & Oven & Shaker Pizza
DESCRIPTION:Ride from RPDX thru bike-friendly Ladds Addition to Tilikum Crossing up the West river front then to Oven & Shaker Pizza where we’ll take advantage of limited outside seating. RPDX buys a round of 5 pies!  Then\, ride back to the West River\, over the Steel Bridge and back down the Eastside Esplanade to RPDX.  Leisurely pace.  Two modest climbs (Tilikum Bridge and river to 10th and Everett)
URL:https://recumbentpdx.com/event/riverfront-ride-oven-shaker-pizza/
LOCATION:RecumbentPDX\, 2025 SE Hawthorne\, Portland\, OR\, 97214\, United States
CATEGORIES:Wednesday Pizza Rides
ORGANIZER;CN="Mel Birge":MAILTO:info@recumbentpdx.com
END:VEVENT
BEGIN:VEVENT
DTSTART;TZID=America/Los_Angeles:20230524T170000
DTEND;TZID=America/Los_Angeles:20230524T200000
DTSTAMP:20260424T141841
CREATED:20230324T230356Z
LAST-MODIFIED:20230324T231259Z
UID:6334-1684947600-1684958400@recumbentpdx.com
SUMMARY:Mount Tabor Loop & Cibo Pizza
DESCRIPTION:Ride from RPDX thru bike-friendly residential streets to base of Mt Tabor.  Then a steady 500 foot climb -for those who want to hit the top.  Return stop at Cibo Pizza. RPDX will hold outdoor space with limited seating.  RPDX buys a round of 5 pies! Then\, ride back to RPDX.  Leisurely pace.  One major (optional) hill.  Total ride distance 9 miles \nMeet at RPDX at 4:30pm.  We head out at 5:00pm.  90 minutes of riding then…..then……PIZZA!!
URL:https://recumbentpdx.com/event/inner-southeast-residential-neighborhood/
LOCATION:RecumbentPDX\, 2025 SE Hawthorne\, Portland\, OR\, 97214\, United States
CATEGORIES:Wednesday Pizza Rides
ORGANIZER;CN="Mel Birge":MAILTO:info@recumbentpdx.com
END:VEVENT
END:VCALENDAR